BEGIN:VCALENDAR
VERSION:2.0
PRODID:-//Library Market//iCal Export//EN
BEGIN:VEVENT
SUMMARY:Vinyl Printer Certification Training
UID:12032
DTSTAMP:20260425T032500Z
DTSTART:20260515T133000Z
DTEND:20260515T153000Z
LOCATION:211 E Court Ave, Jeffersonville, IN 47130, United States
ROOM: Makerspace
DESCRIPTION:Learn how to use our VersaCAMM vs300i vinyl printer and cutter
  to create custom banners, bumper stickers, labels, decals, and more. This
  certification is required in order to book the vinyl printer.Youth under 
 age 16 are welcome to attend but must be accompanied by an adult guardian 
 at all times. All attendees must have a JTPL library card in order to use
  Makerspace equipment.
URL:https://jeffersonville.librarycalendar.com/event/vinyl-printer-certifi
 cation-training-12032
END:VEVENT
END:VCALENDAR
