BEGIN:VCALENDAR
VERSION:2.0
PRODID:-//Library Market//iCal Export//EN
BEGIN:VEVENT
SUMMARY:3D Printer Certification Training
UID:11891
DTSTAMP:20260423T031300Z
DTSTART:20260518T210000Z
DTEND:20260518T230000Z
LOCATION:211 E Court Ave, Jeffersonville, IN 47130, United States
ROOM: Makerspace
DESCRIPTION:Youth under age 16 are welcome to attend but must be accompani
 ed by an adult guardian at all times. All attendees must have a valid JTP
 L library card in order to use Makerspace equipment. 
URL:https://jeffersonville.librarycalendar.com/event/3d-printer-certificat
 ion-training-11891
END:VEVENT
END:VCALENDAR
