BEGIN:VCALENDAR
VERSION:2.0
PRODID:-//Library Market//iCal Export//EN
BEGIN:VEVENT
SUMMARY:Multimedia Studio Certification Training
UID:11888
DTSTAMP:20260424T040300Z
DTSTART:20260513T190000Z
DTEND:20260513T200000Z
LOCATION:211 E Court Ave, Jeffersonville, IN 47130, United States
ROOM: Multimedia Studio
DESCRIPTION:Youth under age 16 are welcome to attend but must be accompani
 ed by an adult guardian at all times.All attendees must have a JTPL librar
 y card in order to use Makerspace equipment.
URL:https://jeffersonville.librarycalendar.com/event/multimedia-studio-cer
 tification-training-11888
END:VEVENT
END:VCALENDAR
