BEGIN:VCALENDAR
VERSION:2.0
PRODID:-//Library Market//iCal Export//EN
BEGIN:VEVENT
SUMMARY:SoIN To Shakespeare Present: Pericles
UID:10797
DTSTAMP:20260425T032500Z
DTSTART:20260516T180000Z
DTEND:20260516T200000Z
LOCATION:1312 Eastern Blvd, Clarksville, IN 47129, United States
ROOM: Meeting Rooms A &amp; B
DESCRIPTION:SoIN to Shakespeare is back!We&#039;re honored to have this ex
 cellent troupe of local actors back with &quot;Pericles: The Prince of Tyr
 e.&quot; In this Shakespearean play, the Greek hero Pericles sets off on a
 n journey to win the hand of princess Thaisa through many trials and obsta
 cles along the way. It&#039;s an epic story of love, loss, and resilience 
 we&#039;re sure to enjoy.This program is open to children and adults of al
 l ages. It is put on in partnership with the Arts Alliance of Southern Ind
 iana and Martin Sharpe&#039;s SoIN To Shakespeare troupe.
URL:https://jeffersonville.librarycalendar.com/event/shakespeare-10797
END:VEVENT
END:VCALENDAR
